BEGIN:VCALENDAR
VERSION:2.0
PRODID:-//CHS Alumni Association - ECPv6.15.20//NONSGML v1.0//EN
CALSCALE:GREGORIAN
METHOD:PUBLISH
X-ORIGINAL-URL:https://carveralumniws.org
X-WR-CALDESC:Events for CHS Alumni Association
REFRESH-INTERVAL;VALUE=DURATION:PT1H
X-Robots-Tag:noindex
X-PUBLISHED-TTL:PT1H
BEGIN:VTIMEZONE
TZID:UTC
BEGIN:STANDARD
TZOFFSETFROM:+0000
TZOFFSETTO:+0000
TZNAME:UTC
DTSTART:20210101T000000
END:STANDARD
END:VTIMEZONE
BEGIN:VEVENT
DTSTART;TZID=UTC:20251213T130000
DTEND;TZID=UTC:20251213T143000
DTSTAMP:20260422T092731
CREATED:20251027T204341Z
LAST-MODIFIED:20251027T205111Z
UID:15037-1765630800-1765636200@carveralumniws.org
SUMMARY:CHSAA Holiday Meet & Greet
DESCRIPTION:The Holiday Meet & Greet is our final monthly gathering of the year. This relaxed event provides a wonderful opportunity to connect with fellow Yellow Jackets in person. This year\, we will also be introducing some of our Dual-Alumni and faculty/staff alumni. Please RSVP so we can account for your attendance.
URL:https://carveralumniws.org/event/chsaa-holiday-meet-greet/
CATEGORIES:Alumni Meeting,Social Events
ATTACH;FMTTYPE=image/jpeg:https://carveralumniws.org/wp-content/uploads/2025/10/AdobeStock_339412283-scaled.jpeg
END:VEVENT
BEGIN:VEVENT
DTSTART;TZID=UTC:20220827T120000
DTEND;TZID=UTC:20220827T150000
DTSTAMP:20260422T092731
CREATED:20220811T163206Z
LAST-MODIFIED:20220815T164446Z
UID:14214-1661601600-1661612400@carveralumniws.org
SUMMARY:CHS Alumni Association Roundup 2022
DESCRIPTION:The Legendary Annual Carver “Yellow Jackets” Roundup is an event in which CHS Alumni and friends reunite each year for a multi-purpose function. The Roundup is an opportunity to hear to information about what the CHS Alumni Association has been doing throughout the year.  It is intended to provide an environment of socializing with alumni across all classes from the beginning to recent graduates so they can be welcomed into the Yellow Jacket Family. \nThis year’s event will include Lunch The following: \n\n12:00 PM Welcome\n12:30 PM Lunch\n1:30 PM Program/Acknowledgements/Announcements\n2:30 PM Class Roll Call (Scholarship Donations)\n\nDuring “Class Roll Call” each of the Alumni classes come together and provide their contribution for the CHS Alumni Association Scholarship. \nFinancial Breakdown: \n\n\n\nRoundup Ticket\nProvided to pay for the expenses for Round UP including food and facilities\n\n\nAlumni Dues\nProvided as an annual membership to the Alumni Association as a part of the General Fund for operations of the organization\n\n\nDonations\nProvided to support the Scholarship and other causes chosen by Alumni and Friends at the time of submission
URL:https://carveralumniws.org/event/chs-aa-roundup-2022/
LOCATION:Carl Russell Community Center\, 3521 Carver School Rd\, Winston-Salem\, 27105\, United States
CATEGORIES:Fund Raising,Social Events
ATTACH;FMTTYPE=image/png:https://carveralumniws.org/wp-content/uploads/2022/08/AdobeStock_517763226.png
END:VEVENT
END:VCALENDAR