BEGIN:VCALENDAR
VERSION:2.0
PRODID:-//CHS Alumni Association - ECPv6.15.20//NONSGML v1.0//EN
CALSCALE:GREGORIAN
METHOD:PUBLISH
X-WR-CALNAME:CHS Alumni Association
X-ORIGINAL-URL:https://carveralumniws.org
X-WR-CALDESC:Events for CHS Alumni Association
REFRESH-INTERVAL;VALUE=DURATION:PT1H
X-Robots-Tag:noindex
X-PUBLISHED-TTL:PT1H
BEGIN:VTIMEZONE
TZID:UTC
BEGIN:STANDARD
TZOFFSETFROM:+0000
TZOFFSETTO:+0000
TZNAME:UTC
DTSTART:20200101T000000
END:STANDARD
END:VTIMEZONE
BEGIN:VEVENT
DTSTART;TZID=UTC:20251213T130000
DTEND;TZID=UTC:20251213T143000
DTSTAMP:20260422T094013
CREATED:20251027T204341Z
LAST-MODIFIED:20251027T205111Z
UID:15037-1765630800-1765636200@carveralumniws.org
SUMMARY:CHSAA Holiday Meet & Greet
DESCRIPTION:The Holiday Meet & Greet is our final monthly gathering of the year. This relaxed event provides a wonderful opportunity to connect with fellow Yellow Jackets in person. This year\, we will also be introducing some of our Dual-Alumni and faculty/staff alumni. Please RSVP so we can account for your attendance.
URL:https://carveralumniws.org/event/chsaa-holiday-meet-greet/
CATEGORIES:Alumni Meeting,Social Events
ATTACH;FMTTYPE=image/jpeg:https://carveralumniws.org/wp-content/uploads/2025/10/AdobeStock_339412283-scaled.jpeg
END:VEVENT
BEGIN:VEVENT
DTSTART;TZID=UTC:20231007T110000
DTEND;TZID=UTC:20231007T150000
DTSTAMP:20260422T094013
CREATED:20230703T093340Z
LAST-MODIFIED:20230723T142639Z
UID:14596-1696676400-1696690800@carveralumniws.org
SUMMARY:CHSAA Round-Up 2023
DESCRIPTION:To purchase 2023 Round-Up tickets\, click here: Carver-High-School-Alumni-Round-Up-Tickets\n\n\n\n\nTo enlarge information\, click here: Carver-High-School-Alumni-Round-Up-2023
URL:https://carveralumniws.org/event/chsaa-round-up-2023/
LOCATION:Benton Convention Center\, 301 W. Fifth Street\,\, Winston-Salem\, NC\, 27101\, United States
CATEGORIES:Events,Fund Raising
ATTACH;FMTTYPE=image/png:https://carveralumniws.org/wp-content/uploads/2023/07/CHSAA-Roundup-2023.png
END:VEVENT
BEGIN:VEVENT
DTSTART;TZID=UTC:20221016T093000
DTEND;TZID=UTC:20221016T113000
DTSTAMP:20260422T094013
CREATED:20220811T212514Z
LAST-MODIFIED:20220811T214638Z
UID:14245-1665912600-1665919800@carveralumniws.org
SUMMARY:Carver All-Class Reunion –2022 Reunion Fellowship
DESCRIPTION:Carver High School Alumni and the Carver Alumni Association will be attending Galilee Missionary Baptist Church \nWe will be guests for Sunday morning service to close-out the weekend extravaganza. \nService time may vary. \nWe will utilize RSVP information to coordinate seating needs for the Sunday morning fellowship.
URL:https://carveralumniws.org/event/carver-all-class-reunion-2022-reunion-fellowship/
LOCATION:Galilee Missionary Baptist Church\, 4129 Northampton Drive\, Winston-Salem\, North Carolina\, 27105
ATTACH;FMTTYPE=image/jpeg:https://carveralumniws.org/wp-content/uploads/2022/08/CSW_GalileeBaptist2.jpg
END:VEVENT
BEGIN:VEVENT
DTSTART;TZID=UTC:20221015T160000
DTEND;TZID=UTC:20221015T210000
DTSTAMP:20260422T094013
CREATED:20220811T204949Z
LAST-MODIFIED:20220812T112306Z
UID:14238-1665849600-1665867600@carveralumniws.org
SUMMARY:The Official Carver Alumni All-Class Reunion “Day Party”
DESCRIPTION:The Official Carver Alumni All-Class Reunion “Day Party” will be held at The ROAR Event Center \nGet Your Tickets Now! \nCHS Alumni has a VIP Lounges w complimentary hors d’oeuvres \nAccess to each entertainment level / Roof Top Seating / Music on Three Levels \n$30 Early Bird Tickets / $40 Regular Ticket Price \nTickets for event will be available on Eventbrite – No Physical Tickets will be Available \nProper ID will be required/Adhere to all NC ABC Laws \nSecurity and Law Enforcement WILL BE PRESENT!!!
URL:https://carveralumniws.org/event/the-official-carver-alumni-all-class-reunion-day-party/
LOCATION:ROAR -Winston-Salem\, 633 N Liberty St\,\, Winston-Salem\, North Carolina\, 27101
ATTACH;FMTTYPE=image/jpeg:https://carveralumniws.org/wp-content/uploads/2022/08/Resized_1659501206515_Howard-Ven-Oct-15th-2022-Day-Party-flyer-080222.jpeg
END:VEVENT
BEGIN:VEVENT
DTSTART;TZID=UTC:20221015T080000
DTEND;TZID=UTC:20221015T130000
DTSTAMP:20260422T094013
CREATED:20220811T191449Z
LAST-MODIFIED:20220811T191449Z
UID:14230-1665820800-1665838800@carveralumniws.org
SUMMARY:Carver All-Class Reunion –2022 Homecoming Classic – Adult 5 on 5 Basketball Tournament
DESCRIPTION:Homecoming Classic – Adult 5 on 5 Basketball Tournament \nHosted by Steve Nivens and The League \n8:00 a.m. Check-up and Registration 8 to 10 Teams – Single Game Elimination Tournament \n9:00 a.m.  Tip Off – ($2 Entry Fee for each patron ages 5 and older) \n11:00 a.m. 2nd Tip Off – ($2 Entry Fee for each patron ages 5 and older) \n12:00 noon _ Championship Round – Crown Winner \nNO FOOD OR DRINKS WILL BE ALLOWED IN GYM AREAS. A CONCESSION STAND WILL BE PROVIDED BY CHS. \n1:00 p.m. Close-Out Tournament
URL:https://carveralumniws.org/event/carver-all-class-reunion-2022-homecoming-classic-adult-5-on-5-basketball-tournament/
LOCATION:Carver High School\, Carver Road\, Winston-Salem\, NC\, United States
ATTACH;FMTTYPE=image/png:https://carveralumniws.org/wp-content/uploads/2022/08/Adult-5-on-5-Basketball_.png
END:VEVENT
BEGIN:VEVENT
DTSTART;TZID=UTC:20221014T153000
DTEND;TZID=UTC:20221014T220000
DTSTAMP:20260422T094013
CREATED:20220811T182955Z
LAST-MODIFIED:20220817T163359Z
UID:14225-1665761400-1665784800@carveralumniws.org
SUMMARY:Carver All-Class Reunion - Homecoming Tailgate
DESCRIPTION:Carver All-Class Reunion – Homecoming Tailgating Event \nPurchase Tailgate Package Here \n3:30 P.M. – 4:30 P.M. Carver High School Homecoming Parade \n4:30 P.M. – ACCESS TO TAILGATING AREA FOR SET-UP!! ALL ITEMS AND DECORATIONS MUST BE REMOVED FROM THE CAMPUS AT THE CONCLUSION OF THE HOMECOMING GAME. PLEASE SEE HOWARD VENABLE – CHS STAFF AND HOMECOMING COMMITTEE FOR TAILGATING SPACE RESERVATION. \n5:00 p.m. Meet and Greet – REGISTRATION AND WELCOME BACK ALUMNI \n(Registration location TBD) \nCelebrating the Class Reunions of -1962\, 1992\, 2002\, & 2012 \n6:00 p.m. Tailgating — All-Class Mix & Mingle – Bus Lot – In front of the David L. Lash Stadium. Each Class will be allowed to purchase Tailgating Space to celebrate during the Carver Homecoming Game. Tailgaters will have the opportunity to place a tent\, grill\, coolers\, play cornhole\, etc. Utilizing only the space(s) paid by your class. \n(Each Individual Class will be Charged $185 per Tailgating Space – Covers Space and 10 tickets per group to enter CHS Homecoming Game. Each tailgating space will measure 16 by 20 feet deep but may increase in size) All proceeds will be used to support Carver High School programs and services. \n7:00 p.m. Homecoming Game – CHS Homecoming Activities \n10:00 p.m. Tailgating Close Out
URL:https://carveralumniws.org/event/carver-all-class-reunion-homecoming/
LOCATION:Carver High School\, Carver Road\, Winston-Salem\, NC\, United States
ATTACH;FMTTYPE=image/jpeg:https://carveralumniws.org/wp-content/uploads/2022/08/AdobeStock_199774476-scaled.jpeg
END:VEVENT
BEGIN:VEVENT
DTSTART;TZID=UTC:20220827T120000
DTEND;TZID=UTC:20220827T150000
DTSTAMP:20260422T094013
CREATED:20220811T163206Z
LAST-MODIFIED:20220815T164446Z
UID:14214-1661601600-1661612400@carveralumniws.org
SUMMARY:CHS Alumni Association Roundup 2022
DESCRIPTION:The Legendary Annual Carver “Yellow Jackets” Roundup is an event in which CHS Alumni and friends reunite each year for a multi-purpose function. The Roundup is an opportunity to hear to information about what the CHS Alumni Association has been doing throughout the year.  It is intended to provide an environment of socializing with alumni across all classes from the beginning to recent graduates so they can be welcomed into the Yellow Jacket Family. \nThis year’s event will include Lunch The following: \n\n12:00 PM Welcome\n12:30 PM Lunch\n1:30 PM Program/Acknowledgements/Announcements\n2:30 PM Class Roll Call (Scholarship Donations)\n\nDuring “Class Roll Call” each of the Alumni classes come together and provide their contribution for the CHS Alumni Association Scholarship. \nFinancial Breakdown: \n\n\n\nRoundup Ticket\nProvided to pay for the expenses for Round UP including food and facilities\n\n\nAlumni Dues\nProvided as an annual membership to the Alumni Association as a part of the General Fund for operations of the organization\n\n\nDonations\nProvided to support the Scholarship and other causes chosen by Alumni and Friends at the time of submission
URL:https://carveralumniws.org/event/chs-aa-roundup-2022/
LOCATION:Carl Russell Community Center\, 3521 Carver School Rd\, Winston-Salem\, 27105\, United States
CATEGORIES:Fund Raising,Social Events
ATTACH;FMTTYPE=image/png:https://carveralumniws.org/wp-content/uploads/2022/08/AdobeStock_517763226.png
END:VEVENT
BEGIN:VEVENT
DTSTART;VALUE=DATE:20220718
DTEND;VALUE=DATE:20220719
DTSTAMP:20260422T094013
CREATED:20160705T000000Z
LAST-MODIFIED:20220118T195221Z
UID:10800-1658102400-1658188799@carveralumniws.org
SUMMARY:Open House 2022
DESCRIPTION:  \n 
URL:https://carveralumniws.org/event/digital-help-for-language-volunteers/
LOCATION:Carver High School\, Carver Road\, Winston-Salem\, NC\, United States
CATEGORIES:Events
ATTACH;FMTTYPE=image/jpeg:https://carveralumniws.org/wp-content/uploads/2016/07/CHS-2.jpg
ORGANIZER;CN="Nick Sims":MAILTO:sims@example.com
END:VEVENT
BEGIN:VEVENT
DTSTART;VALUE=DATE:20220310
DTEND;VALUE=DATE:20220311
DTSTAMP:20260422T094013
CREATED:20160726T000000Z
LAST-MODIFIED:20220118T193444Z
UID:10805-1646870400-1646956799@carveralumniws.org
SUMMARY:Awards Day 2022
DESCRIPTION:  \n 
URL:https://carveralumniws.org/event/historic-agreement-will-rid-colombia-of-landmines/
LOCATION:Carver High School\, Carver Road\, Winston-Salem\, NC\, United States
CATEGORIES:Agreement
ATTACH;FMTTYPE=image/jpeg:https://carveralumniws.org/wp-content/uploads/2016/07/AdobeStock_265739226-1-scaled.jpeg
END:VEVENT
BEGIN:VEVENT
DTSTART;VALUE=DATE:20211019
DTEND;VALUE=DATE:20211024
DTSTAMP:20260422T094013
CREATED:20160718T000000Z
LAST-MODIFIED:20220118T040612Z
UID:10803-1634601600-1635033599@carveralumniws.org
SUMMARY:Homecoming 2022
DESCRIPTION:
URL:https://carveralumniws.org/event/world-humanitarian-day-in-the-shadow-of-crises/
LOCATION:Central Park\, Brooklyn\, NY 10036\, New York\, AK\, United States
CATEGORIES:Humanitarian Day
ATTACH;FMTTYPE=image/jpeg:https://carveralumniws.org/wp-content/uploads/2017/03/04.jpg
ORGANIZER;CN="Nick Sims":MAILTO:sims@example.com
END:VEVENT
END:VCALENDAR